Workbook

Sheet 0,0.05,0.1
L2: Neat | M2: 0.05%Graphene | N2: 0.1%Graphene | P2: Neat | R2: 0.05%Graphene | T2: 0.1%Graphene
K3: Elastic Modulus (Gpa) | L3: =NeatCement_5x5matrix_5N_rawdata!O6 -> 52.42973 | M3: ='0.05%Graphene_5x5matrix_5N_rawd'!O6 -> 40.26684 | N3: ='0.1%Graphene_5x5matrix_5N_rawda'!O6 -> 31.353014 | P3: Elastic Modulus (Gpa) | Q3: Microhardness (Gpa) | R3: Elastic Modulus (Gpa) | S3: Microhardness (Gpa) | T3: Elastic Modulus (Gpa) | U3: Microhardness (Gpa)
K4: Microhardness (Gpa) | L4: =NeatCement_5x5matrix_5N_rawdata!O7 -> 6.7044047 | M4: ='0.05%Graphene_5x5matrix_5N_rawd'!O7 -> 6.0583834 | N4: ='0.1%Graphene_5x5matrix_5N_rawda'!O7 -> 4.1750072 | P4: 21.367 | Q4: 0.638 | R4: 11.602 | S4: 0.5454 | T4: 11.255 | U4: 0.53999

Sheet NeatCement_5x5matrix_5N_rawdata
A1: time | B1: depth | C1: load | D1: position | E1: Plot depth | F1: Plot load
A2: 0.00024357333 | B2: 5.3055442e-05 | C2: -0.00067158787 | D2: 0 | E2: 0 | F2: 0 | H2: Cell 8356 | I2: Pmax= | J2: =MAX(F2:F4327) -> 4.9952706 | N2: S (N/um) | O2: 1.6424 | P2: b | Q2: -27.803
A3: 0.0012522983 | B3: 0 | C3: 0 | D3: 0.0125 | E3: -5.3055442e-05 | F3: 0.00067158787 | H3: P0.1 3898 | I3: =0.9*J2 -> 4.4957435 | J3: =F3898 -> 4.4949376 | K3: h | L3: =E3898 -> 19.665729 | N3: hp | O3: =-(Q2)/O2 -> 16.928276
A4: 0.0022214833 | B4: 5.3055442e-05 | C4: -0.00067158787 | D4: 0.0175 | E4: 0.049678907 | F4: 0 | H4: P0.5 4091 | I4: =0.5*J2 -> 2.4976353 | J4: =F4091 -> 2.4969637 | K4: h | L4: =E4091 -> 18.470677 | N4: A (um2) | O4: =2.6*(O3)^2 -> 745.07295
A5: 0.003237475 | B5: 5.3055442e-05 | C5: -0.00067158787 | D5: 0.03 | E5: 0.049625852 | F5: 0.00067158787 | I5: hmax | J5: =MAX(E2:E10817) -> 19.931297 | N5: Er (Gpa) | O5: =(O2*SQRT(PI()))/(2*SQRT(O4))*1000 -> 53.324216
A6: 0.0042967583 | B6: 0 | C6: 0 | D6: 0.0375 | E6: 0.06608592 | F6: 0 | I6: poissions | J6: 0.25 | N6: E (Gpa) | O6: =(1-(J6)^2)/((1/O5)-((1-(J7)^2)/J8)) -> 52.42973 | Q6: P | R6: h
A7: 0.0053166783 | B7: 0 | C7: 0 | D7: 0.0475 | E7: 0.065979809 | F7: 0.0013431757 | I7: vi | J7: 0.07 | N7: H (Gpa) | O7: =(J2/O4)*1000 -> 6.7044047 | Q7: 0 | R7: =O3 -> 16.928276
A8: 0.0064047967 | B8: 5.3055442e-05 | C8: -0.00067158787 | D8: 0.0575 | E8: 0.096924197 | F8: 0.0013431757 | I8: Ei | J8: 1141 | Q8: 5 | R8: =((Q8-Q2)/O2) -> 19.972601
A9: 0.0074191083 | B9: 5.3055442e-05 | C9: -0.00067158787 | D9: 0.07 | E9: 0.096871142 | F9: 0.0020147636
A10: 0.0084871283 | B10: 0 | C10: 0 | D10: 0.08 | E10: 0.096818087 | F10: 0.0026863515
A11: 0.0094189983 | B11: -5.3055442e-05 | C11: 0.00067158787 | D11: 0.0875 | E11: 0.079891792 | F11: 0.0020147636
A12: 0.010322858 | B12: 0 | C12: 0 | D12: 0.095 | E12: 0.079785681 | F12: 0.0033579394
A13: 0.01130571 | B13: 5.3055442e-05 | C13: -0.00067158787 | D13: 0.105 | E13: 0.079732626 | F13: 0.0040295272
A14: 0.012195782 | B14: 5.3055442e-05 | C14: -0.00067158787 | D14: 0.1175 | E14: 0.12628275 | F14: 0.0040295272
A15: 0.013226913 | B15: 0 | C15: 0 | D15: 0.125 | E15: 0.1262297 | F15: 0.0047011151
A16: 0.014196853 | B16: 0 | C16: 0 | D16: 0.135 | E16: 0.12617664 | F16: 0.005372703
A17: 0.015255538 | B17: 5.3055442e-05 | C17: -0.00067158787 | D17: 0.145 | E17: 0.23612688 | F17: 0.0060442908
A18: 0.016143528 | B18: 5.3055442e-05 | C18: -0.00067158787 | D18: 0.155 | E18: 0.23602077 | F18: 0.0073874666
A19: 0.017139378 | B19: 0 | C19: 0 | D19: 0.1675 | E19: 0.23596772 | F19: 0.0080590545
A20: 0.018143307 | B20: 0 | C20: 0 | D20: 0.1775 | E20: 0.23602077 | F20: 0.0073874666
... A4327: 4.2303541 | B4327: 0 | C4327: 0 | D4327: 42.5175 | E4327: 15.999603 | F4327: 0.049025915
A4328: 4.2313563 | B4328: 5.3055442e-05 | C4328: -0.00067158787 | D4328: 42.5275
A4329: 4.2324196 | B4329: 0.00010611088 | C4329: -0.0013431757 | D4329: 42.5375
A4330: 4.2334761 | B4330: 0 | C4330: 0 | D4330: 42.5475
A4331: 4.2346014 | B4331: 0 | C4331: 0 | D4331: 42.56
A4332: 4.235522 | B4332: 0 | C4332: 0 | D4332: 42.57
A4333: 4.2365523 | B4333: 5.3055442e-05 | C4333: -0.00067158787 | D4333: 42.58
A4334: 4.2376165 | B4334: 5.3055442e-05 | C4334: -0.00067158787 | D4334: 42.59
A4335: 4.2386546 | B4335: 0.00010611088 | C4335: -0.0013431757 | D4335: 42.6
A4336: 4.2396934 | B4336: 0.00010611088 | C4336: -0.0013431757 | D4336: 42.61
A4337: 4.2407709 | B4337: 0.00010611088 | C4337: -0.0013431757 | D4337: 42.625
A4338: 4.2417876 | B4338: 0.00010611088 | C4338: -0.0013431757 | D4338: 42.6325
A4339: 4.2428666 | B4339: 5.3055442e-05 | C4339: -0.00067158787 | D4339: 42.6425
... A10817: 10.635893 | B10817: 22.987527 | C10817: 0.037608921 | D10817: 57.74

Sheet 0.05%Graphene_5x5matrix_5N_rawd
A1: time | B1: depth | C1: load | D1: position | E1: Plot depth | F1: Plot load
A2: 0.00024340833 | B2: 0 | C2: 0 | D2: 0 | E2: =B4799-$R$4 -> 0 | F2: 0.00067158787 | H2: Cell 5455 | I2: Pmax= | J2: =MAX(C2:C11046) -> 4.9959422 | N2: S (N/um) | O2: 1.3415 | P2: b | Q2: =-23.891 -> -23.891
A3: 0.00134144 | B3: -5.3055442e-05 | C3: 0.00067158787 | D3: 0.01 | E3: =B4800-$R$4 -> 0.034058268 | F3: 0.0013431757 | H3: P0.1 5820 | I3: =0.9*J2 -> 4.496348 | J3: =C10617 -> 4.5016535 | K3: h | L3: =E5820 -> 21.17378 | N3: hp | O3: =((-Q2)/O2) -> 17.809169 | Q3: Contact 4799
A4: 0.0022786033 | B4: -5.3055442e-05 | C4: 0.00067158787 | D4: 0.02 | E4: =B4801-$R$4 -> 0.034058268 | F4: 0.0013431757 | H4: P0.5 5969 | I4: =0.5*J2 -> 2.4979711 | J4: =C10766 -> 2.9516287 | K4: h | L4: =E5969 -> 20.049795 | N4: A (um2) | O4: =2.6*(O3)^2 -> 824.63289 | Q4: ho | R4: =B4799 -> 29.2551
A5: 0.003206235 | B5: -5.3055442e-05 | C5: 0.00067158787 | D5: 0.0275 | E5: =B4802-$R$4 -> 0.051739323 | F5: 0.00067158787 | I5: hmax | J5: =MAX(E2:E6249) -> 21.571586 | N5: Er (Gpa) | O5: =(O2*SQRT(PI()))/(2*SQRT(O4))*1000 -> 41.400472
A6: 0.0040951083 | B6: -5.3055442e-05 | C6: 0.00067158787 | D6: 0.035 | E6: =B4803-$R$4 -> 0.051739323 | F6: 0.00067158787 | I6: poissions | J6: 0.25 | N6: E (Gpa) | O6: =(1-(J6)^2)/((1/O5)-((1-(J7)^2)/J8)) -> 40.26684 | Q6: P | R6: h
A7: 0.0050629833 | B7: -5.3055442e-05 | C7: 0.00067158787 | D7: 0.045 | E7: =B4804-$R$4 -> 0.090246925 | F7: 0.0020147636 | I7: vi | J7: 0.07 | N7: H (Gpa) | O7: =(J2/O4)*1000 -> 6.0583834 | Q7: 0 | R7: =O3 -> 17.809169
A8: 0.0059638967 | B8: -5.3055442e-05 | C8: 0.00067158787 | D8: 0.0525 | E8: =B4805-$R$4 -> 0.090246925 | F8: 0.0020147636 | I8: Ei | J8: 1141 | Q8: 5 | R8: =((Q8-Q2)/O2) -> 21.53634
A9: 0.00690758 | B9: 0 | C9: 0 | D9: 0.06 | E9: =B4806-$R$4 -> 0.14360369 | F9: 0.0013431757
A10: 0.0079172183 | B10: 0 | C10: 0 | D10: 0.07 | E10: =B4807-$R$4 -> 0.14360369 | F10: 0.0013431757
A11: 0.008788565 | B11: -5.3055442e-05 | C11: 0.00067158787 | D11: 0.0825 | E11: =B4808-$R$4 -> 0.25836157 | F11: 0.0020147636
A12: 0.0098050483 | B12: -5.3055442e-05 | C12: 0.00067158787 | D12: 0.0875 | E12: =B4809-$R$4 -> 0.25830851 | F12: 0.0026863515
A13: 0.010794477 | B13: -5.3055442e-05 | C13: 0.00067158787 | D13: 0.0975 | E13: =B4810-$R$4 -> 0.17491474 | F13: 0.0020147636
A14: 0.011691097 | B14: 0 | C14: 0 | D14: 0.11 | E14: =B4811-$R$4 -> 0.17502085 | F14: 0.00067158787
A15: 0.01264528 | B15: 0 | C15: 0 | D15: 0.1175 | E15: =B4812-$R$4 -> 0.17491474 | F15: 0.0020147636
A16: 0.013526582 | B16: 0 | C16: 0 | D16: 0.125 | E16: =B4813-$R$4 -> 0.046047559 | F16: 0.0026863515
A17: 0.014415395 | B17: -5.3055442e-05 | C17: 0.00067158787 | D17: 0.1375 | E17: =B4814-$R$4 -> 0.04615367 | F17: 0.0013431757
A18: 0.015306573 | B18: 0 | C18: 0 | D18: 0.1425 | E18: =B4815-$R$4 -> 0.14944154 | F18: 0.0013431757
A19: 0.016293253 | B19: 0 | C19: 0 | D19: 0.1525 | E19: =B4816-$R$4 -> 0.14938848 | F19: 0.0020147636
A20: 0.017277853 | B20: 0 | C20: 0 | D20: 0.1625 | E20: =B4817-$R$4 -> 0.35480464 | F20: 0.0026863515
... A6249: 6.1348025 | B6249: 50.167183 | C6249: 4.9791525 | D6249: 93.7325 | E6249: =B11046-$R$4 -> 16.902963 | F6249: 0.03156463
A6250: 6.1357571 | B6250: 50.167236 | C6250: 4.9784809 | D6250: 93.73
A6251: 6.1366914 | B6251: 50.143518 | C6251: 4.9778093 | D6251: 93.73
A6252: 6.13759 | B6252: 50.143465 | C6252: 4.9784809 | D6252: 93.7325
A6253: 6.1384772 | B6253: 50.063323 | C6253: 4.9791525 | D6253: 93.7325
A6254: 6.1394401 | B6254: 50.063323 | C6254: 4.9791525 | D6254: 93.7325
A6255: 6.140516 | B6255: 50.188413 | C6255: 4.9784809 | D6255: 93.7325
A6256: 6.1414952 | B6256: 50.188413 | C6256: 4.9784809 | D6256: 93.7325
A6257: 6.1425699 | B6257: 50.186391 | C6257: 4.9784809 | D6257: 93.7325
A6258: 6.1436399 | B6258: 50.186391 | C6258: 4.9784809 | D6258: 93.7325
A6259: 6.1446289 | B6259: 50.186391 | C6259: 4.9784809 | D6259: 93.735
A6260: 6.1456588 | B6260: 50.175578 | C6260: 4.9791525 | D6260: 93.735
A6261: 6.146567 | B6261: 50.141123 | C6261: 4.9791525 | D6261: 93.735
... A11046: 10.854778 | B11046: 46.158064 | C11046: 0.03156463 | D11046: 58.81

Sheet 0.1%Graphene_5x5matrix_5N_rawda
A1: time | B1: depth | C1: load | D1: position | E1: Plot depth | F1: Plot load
A2: 0.00029256667 | B2: 0.00010611088 | C2: -0.0013431757 | D2: 0 | E2: =B4776-$R$4 -> 0 | F2: 0.00067158787 | H2: Cell 5346 | I2: Pmax= | J2: =MAX(C2:C10872) -> 5.0006433 | N2: S (N/um) | O2: 1.269 | P2: b | Q2: -27.237
A3: 0.0012732533 | B3: 5.3055442e-05 | C3: -0.00067158787 | D3: 0.01 | E3: =B4777-$R$4 -> -0.11446753 | F3: 0.00067158787 | H3: P0.1 5669 | I3: =0.9*J2 -> 4.500579 | J3: =F5669 -> 4.5043399 | K3: h | L3: =E5669 -> 24.919633 | N3: hp | O3: =(-(Q2))/O2 -> 21.463357 | Q3: Contact 4776
A4: 0.0021916083 | B4: 0 | C4: 0 | D4: 0.0175 | E4: =B4778-$R$4 -> -0.11446753 | F4: 0.00067158787 | H4: P0.5 5862 | I4: =0.5*J2 -> 2.5003216 | J4: =F5862 -> 2.4969637 | K4: h | L4: =E5862 -> 23.394055 | N4: A (um2) | O4: =2.6*(O3)^2 -> 1197.7568 | Q4: ho | R4: =B4776 -> 25.005493
A5: 0.00326769 | B5: 5.3055442e-05 | C5: -0.00067158787 | D5: 0.03 | E5: =B4779-$R$4 -> -0.11446753 | F5: 0.00067158787 | I5: hmax | J5: =MAX(E2:E6098) -> 25.35709 | N5: Er (Gpa) | O5: =(O2*SQRT(PI()))/(2*SQRT(O4))*1000 -> 32.495426
A6: 0.004324835 | B6: 0 | C6: 0 | D6: 0.0375 | E6: =B4780-$R$4 -> -0.12202239 | F6: 0.00067158787 | I6: poissions | J6: 0.25 | N6: E (Gpa) | O6: =(1-(J6)^2)/((1/O5)-((1-(J7)^2)/J8)) -> 31.353014 | Q6: P | R6: h
A7: 0.0053521983 | B7: 0 | C7: 0 | D7: 0.0475 | E7: =B4781-$R$4 -> -0.12202239 | F7: 0.00067158787 | I7: vi | J7: 0.07 | N7: H (Gpa) | O7: =(J2/O4)*1000 -> 4.1750072 | Q7: 0 | R7: =O3 -> 21.463357
A8: 0.0063989483 | B8: 5.3055442e-05 | C8: -0.00067158787 | D8: 0.0575 | E8: =B4782-$R$4 -> -0.10054065 | F8: 0.00067158787 | I8: Ei | J8: 1141 | Q8: 5 | R8: =(Q8-Q2)/O2 -> 25.403467
A9: 0.0073164317 | B9: 0 | C9: 0 | D9: 0.065 | E9: =B4783-$R$4 -> -0.1005937 | F9: 0.0013431757
A10: 0.0082323217 | B10: 0 | C10: 0 | D10: 0.08 | E10: =B4784-$R$4 -> 0.019291957 | F10: 0.0013431757
A11: 0.0091291133 | B11: 0 | C11: 0 | D11: 0.085 | E11: =B4785-$R$4 -> 0.019291957 | F11: 0.0013431757
A12: 0.010083735 | B12: 0 | C12: 0 | D12: 0.0925 | E12: =B4786-$R$4 -> -0.020504587 | F12: 0.0013431757
A13: 0.011102105 | B13: 5.3055442e-05 | C13: -0.00067158787 | D13: 0.1025 | E13: =B4787-$R$4 -> -0.020504587 | F13: 0.0013431757
A14: 0.01218463 | B14: 0.00010611088 | C14: -0.0013431757 | D14: 0.12 | E14: =B4788-$R$4 -> -0.0444432 | F14: 0.0020147636
A15: 0.013255268 | B15: 5.3055442e-05 | C15: -0.00067158787 | D15: 0.1275 | E15: =B4789-$R$4 -> -0.0444432 | F15: 0.0020147636
A16: 0.014196663 | B16: 0 | C16: 0 | D16: 0.1375 | E16: =B4790-$R$4 -> 0.083202994 | F16: 0.0013431757
A17: 0.015284845 | B17: 0 | C17: 0 | D17: 0.145 | E17: =B4791-$R$4 -> 0.083202994 | F17: 0.0013431757
A18: 0.016352388 | B18: 5.3055442e-05 | C18: -0.00067158787 | D18: 0.155 | E18: =B4792-$R$4 -> 0.042422754 | F18: 0.0026863515
A19: 0.01733647 | B19: 0.00010611088 | C19: -0.0013431757 | D19: 0.165 | E19: =B4793-$R$4 -> 0.042422754 | F19: 0.0026863515
A20: 0.018229545 | B20: 5.3055442e-05 | C20: -0.00067158787 | D20: 0.175 | E20: =B4794-$R$4 -> 0.14082667 | F20: 0.0026863515
... A6098: 6.0105587 | B6098: 49.698869 | C6098: 4.9838536 | D6098: 96.305 | E6098: =B10872-$R$4 -> 19.895508 | F6098: 0.04096686
A6099: 6.0116164 | B6099: 49.698922 | C6099: 4.983182 | D6099: 96.305
A6100: 6.0126625 | B6100: 49.599259 | C6100: 4.983182 | D6100: 96.3075
A6101: 6.0136989 | B6101: 49.599259 | C6101: 4.983182 | D6101: 96.3075
A6102: 6.0147355 | B6102: 49.636437 | C6102: 4.9825104 | D6102: 96.3075
A6103: 6.0156201 | B6103: 49.63649 | C6103: 4.9818388 | D6103: 96.305
A6104: 6.0166008 | B6104: 49.617703 | C6104: 4.9825104 | D6104: 96.3075
A6105: 6.0175717 | B6105: 49.617703 | C6105: 4.9825104 | D6105: 96.305
A6106: 6.0184526 | B6106: 49.685567 | C6106: 4.983182 | D6106: 96.305
A6107: 6.0194888 | B6107: 49.685673 | C6107: 4.9818388 | D6107: 96.3075
A6108: 6.0205367 | B6108: 49.683117 | C6108: 4.9818388 | D6108: 96.3075
A6109: 6.0214987 | B6109: 49.683064 | C6109: 4.9825104 | D6109: 96.3075
A6110: 6.022404 | B6110: 49.58743 | C6110: 4.983182 | D6110: 96.31
... A10872: 10.757411 | B10872: 44.901001 | C10872: 0.04096686 | D10872: 60.685
