Workbook

Sheet Sheet1
A1: 0.05%Graphene~2.5in
A3: Sample1 | C3: Sample3
A4: Time(s) | B4: Perm(microD) | C4: Time(s) | D4: Perm(microD) | F4: Average after 24hrs | Q4: Sample1 | S4: Sample3
A5: 180 | B5: =1000*'Sample#1'!E8 -> 11.589276 | C5: 34 | D5: =1000*'Sample#3'!E15 -> 0.94717955 | F5: Sample 1 | G5: =AVERAGE(B493:B2916) -> 30.412106 | Q5: 0 | R5: 30.41 | S5: 0 | T5: 32.18
A6: 210 | B6: =1000*'Sample#1'!E9 -> 9.5272934 | C6: 64 | D6: =1000*'Sample#3'!E16 -> 0.73557132 | F6: Sample 3 | G6: =AVERAGE(D169:D3196) -> 32.179452 | Q6: 100000 | R6: 30.41 | S6: 100000 | T6: 32.18
A7: 241 | B7: =1000*'Sample#1'!E10 -> 8.6161373 | C7: 94 | D7: =1000*'Sample#3'!E17 -> 0.75195414
A8: 271 | B8: =1000*'Sample#1'!E11 -> 7.9498282 | C8: 124 | D8: =1000*'Sample#3'!E18 -> 0.80288443 | F8: 24hr Line
A9: 301 | B9: =1000*'Sample#1'!E12 -> 7.4716501 | C9: 154 | D9: =1000*'Sample#3'!E19 -> 0.8741251 | F9: 86400 | G9: 0
A10: 331 | B10: =1000*'Sample#1'!E13 -> 7.075216 | C10: 185 | D10: =1000*'Sample#3'!E20 -> 0.92223633 | F10: 86400 | G10: 0
A11: 361 | B11: =1000*'Sample#1'!E14 -> 6.7242923 | C11: 215 | D11: =1000*'Sample#3'!E21 -> 1.0626977 | F11: 86400 | G11: 0
A12: 391 | B12: =1000*'Sample#1'!E15 -> 6.4379955 | C12: 245 | D12: =1000*'Sample#3'!E22 -> 1.1721855 | F12: 86400 | G12: 0
A13: 421 | B13: =1000*'Sample#1'!E16 -> 6.1917839 | C13: 275 | D13: =1000*'Sample#3'!E23 -> 1.28965 | F13: 86400 | G13: 0
A14: 451 | B14: =1000*'Sample#1'!E17 -> 5.9987069 | C14: 305 | D14: =1000*'Sample#3'!E24 -> 1.4261149 | F14: 86400 | G14: 0
A15: 482 | B15: =1000*'Sample#1'!E18 -> 5.8265966 | C15: 336 | D15: =1000*'Sample#3'!E25 -> 1.5597048 | F15: 86400 | G15: 0
A16: 512 | B16: =1000*'Sample#1'!E19 -> 5.6859106 | C16: 366 | D16: =1000*'Sample#3'!E26 -> 1.691957 | F16: 86400 | G16: 0
A17: 542 | B17: =1000*'Sample#1'!E20 -> 5.5955651 | C17: 396 | D17: =1000*'Sample#3'!E27 -> 1.8441814 | F17: 86400 | G17: 0
A18: 572 | B18: =1000*'Sample#1'!E21 -> 5.5013251 | C18: 426 | D18: =1000*'Sample#3'!E28 -> 2.0021662 | F18: 86400 | G18: 0
A19: 602 | B19: =1000*'Sample#1'!E22 -> 5.4291777 | C19: 457 | D19: =1000*'Sample#3'!E29 -> 2.1484434 | F19: 86400 | G19: 0
A20: 633 | B20: =1000*'Sample#1'!E23 -> 5.3685024 | C20: 487 | D20: =1000*'Sample#3'!E30 -> 2.3061105 | F20: 86400 | G20: 0
... A109: 3336 | B109: =1000*'Sample#1'!E112 -> 27.631999 | C109: 3193 | D109: =1000*'Sample#3'!E119 -> 49.148002 | F109: 86400 | G109: 0
A110: 3366 | B110: =1000*'Sample#1'!E113 -> 25.166671 | C110: 3223 | D110: =1000*'Sample#3'!E120 -> 33.205961
A111: 3396 | B111: =1000*'Sample#1'!E114 -> 23.381051 | C111: 3253 | D111: =1000*'Sample#3'!E121 -> 27.956984
A112: 3427 | B112: =1000*'Sample#1'!E115 -> 21.907609 | C112: 3284 | D112: =1000*'Sample#3'!E122 -> 24.714603
A113: 3457 | B113: =1000*'Sample#1'!E116 -> 20.867441 | C113: 3314 | D113: =1000*'Sample#3'!E123 -> 22.841949
A114: 3488 | B114: =1000*'Sample#1'!E117 -> 50.838435 | C114: 3344 | D114: =1000*'Sample#3'!E124 -> 21.478973
A115: 3518 | B115: =1000*'Sample#1'!E118 -> 34.399486 | C115: 3375 | D115: =1000*'Sample#3'!E125 -> 50.323449
A116: 3549 | B116: =1000*'Sample#1'!E119 -> 28.659017 | C116: 3405 | D116: =1000*'Sample#3'!E126 -> 33.523281
A117: 3579 | B117: =1000*'Sample#1'!E120 -> 25.853903 | C117: 3436 | D117: =1000*'Sample#3'!E127 -> 28.349633
A118: 3609 | B118: =1000*'Sample#1'!E121 -> 23.920965 | C118: 3466 | D118: =1000*'Sample#3'!E128 -> 25.019129
A119: 3639 | B119: =1000*'Sample#1'!E122 -> 22.464617 | C119: 3496 | D119: =1000*'Sample#3'!E129 -> 23.143472
A120: 3669 | B120: =1000*'Sample#1'!E123 -> 21.302382 | C120: 3526 | D120: =1000*'Sample#3'!E130 -> 21.692268
A121: 3701 | B121: =1000*'Sample#1'!E124 -> 20.459562 | C121: 3558 | D121: =1000*'Sample#3'!E131 -> 47.259895
... A2916: 88969 | B2916: =1000*'Sample#1'!E2919 -> 25.70734 | C2916: 88863 | D2916: =1000*'Sample#3'!E2926 -> 36.074421
C2917: 88894 | D2917: =1000*'Sample#3'!E2927 -> 31.033844
C2918: 88924 | D2918: =1000*'Sample#3'!E2928 -> 28.363505
C2919: 88954 | D2919: =1000*'Sample#3'!E2929 -> 26.534646
C2920: 88986 | D2920: =1000*'Sample#3'!E2930 -> 40.161528
C2921: 89016 | D2921: =1000*'Sample#3'!E2931 -> 33.324586
C2922: 89046 | D2922: =1000*'Sample#3'!E2932 -> 29.912744
C2923: 89076 | D2923: =1000*'Sample#3'!E2933 -> 27.602877
C2924: 89107 | D2924: =1000*'Sample#3'!E2934 -> 57.298095
C2925: 89138 | D2925: =1000*'Sample#3'!E2935 -> 37.464826
C2926: 89168 | D2926: =1000*'Sample#3'!E2936 -> 32.222403
C2927: 89198 | D2927: =1000*'Sample#3'!E2937 -> 29.246252
C2928: 89228 | D2928: =1000*'Sample#3'!E2938 -> 27.091877
... C3196: 97425 | D3196: =1000*'Sample#3'!E3206 -> 28.863365

Sheet Sample#1
A1: Sample: | B1: 0.05%Graphene1
A2: Diam,cm: | B2: 2.515
A3: Length,cm: | B3: 7.376
A4: Baro mmHg: | B4: 760
A5: Visc, cp: | B5: 0.017569
A7: Time,sec | B7: Pres,inH20 | C7: Flow_cc/s | D7: P1,psi | E7: Perm_md | F7: Timestamp
A8: 180 | B8: 0.262 | C8: 7.3685911e-05 | D8: 2.263 | E8: 0.011589276 | F8: 3/1/2020 6:49:01 PM 0.0119216699491848 0 0.262276738882065 22
A9: 210 | B9: 0.509 | C9: 6.0518237e-05 | D9: 2.261 | E9: 0.0095272934 | F9: 3/1/2020 6:49:31 PM 0.00979126731936748 0 0.509145900607109 52
A10: 241 | B10: 0.734 | C10: 5.4652691e-05 | D10: 2.258 | E10: 0.0086161373 | F10: 3/1/2020 6:50:02 PM 0.00884227849632861 0 0.733909115195274 83
A11: 271 | B11: 0.921 | C11: 5.0402326e-05 | D11: 2.257 | E11: 0.0079498282 | F11: 3/1/2020 6:50:32 PM 0.00815461048510222 0 0.921470984816551 113
A12: 301 | B12: 1.094 | C12: 4.7303202e-05 | D12: 2.254 | E12: 0.0074716501 | F12: 3/1/2020 6:51:02 PM 0.00765320210606902 0 1.09440790116787 143
A13: 331 | B13: 1.253 | C13: 4.4772081e-05 | D13: 2.253 | E13: 0.007075216 | F13: 3/1/2020 6:51:32 PM 0.00724369106609697 0 1.25315855443478 173
A14: 361 | B14: 1.396 | C14: 4.251097e-05 | D14: 2.251 | E14: 0.0067242923 | F14: 3/1/2020 6:52:02 PM 0.00687786503672013 0 1.39620660245419 203
A15: 391 | B15: 1.535 | C15: 4.072037e-05 | D15: 2.252 | E15: 0.0064379955 | F15: 3/1/2020 6:52:32 PM 0.00658816323004055 0 1.53504203259945 233
A16: 421 | B16: 1.665 | C16: 3.9125826e-05 | D16: 2.25 | E16: 0.0061917839 | F16: 3/1/2020 6:53:02 PM 0.00633018138064178 0 1.66483770310879 263
A17: 451 | B17: 1.796 | C17: 3.788773e-05 | D17: 2.249 | E17: 0.0059987069 | F17: 3/1/2020 6:53:32 PM 0.00612986937114403 0 1.7960517257452 293
A18: 482 | B18: 1.929 | C18: 3.6800684e-05 | D18: 2.249 | E18: 0.0058265966 | F18: 3/1/2020 6:54:03 PM 0.00595399585587007 0 1.9290946573019 324
A19: 512 | B19: 2.056 | C19: 3.5895011e-05 | D19: 2.248 | E19: 0.0056859106 | F19: 3/1/2020 6:54:33 PM 0.00580746672079388 0 2.05584321916103 354
... A2919: 88969 | B2919: 3.842 | C2919: 0.00020295515 | D2919: 2.766 | E2919: 0.02570734 | F2919: 3/2/2020 7:28:50 PM 0.0328361863413682 0.0307705259571473 3.84183380194008 117

Sheet Sample#3
A1: Sample: | B1: 0.05%Graphene~2.5in#3
A2: Diam,cm: | B2: 2.5222
A3: Length,cm: | B3: 6.0211
A4: Baro mmHg: | B4: 760
A5: Visc, cp: | B5: 0.017569
A7: Time,sec | B7: Pres,inH20 | C7: Flow_cc/s | D7: P1,psi | E7: Perm_md | F7: Timestamp
A8: Sample: | B8: 0.05%Graphene~2.5in#3
A9: Diam,cm: | B9: 2.5222
A10: Length,cm: | B10: 6.0211
A11: Baro mmHg: | B11: 760
A12: Visc, cp: | B12: 0.017569
A14: Time,sec | B14: Pres,inH20 | C14: Flow_cc/s | D14: P1,psi | E14: Perm_md | F14: Timestamp
A15: 34 | B15: 0.028 | C15: 6.592946e-06 | D15: 2.026 | E15: 0.00094717955 | F15: 3/3/2020 2:11:24 PM 0.0010666750693837 0 0.0277335518039763 26
A16: 64 | B16: 0.046 | C16: 5.120024e-06 | D16: 2.026 | E16: 0.00073557132 | F16: 3/3/2020 2:11:54 PM 0.000828370493504086 0 0.0463887476362288 56
A17: 94 | B17: 0.073 | C17: 5.231308e-06 | D17: 2.025 | E17: 0.00075195414 | F17: 3/3/2020 2:12:24 PM 0.000846375240186273 0 0.0727882706560194 86
A18: 124 | B18: 0.105 | C18: 5.585628e-06 | D18: 2.025 | E18: 0.00080288443 | F18: 3/3/2020 2:12:54 PM 0.000903700723248566 0 0.104829283896834 116
A19: 154 | B19: 0.143 | C19: 6.078049e-06 | D19: 2.024 | E19: 0.0008741251 | F19: 3/3/2020 2:13:24 PM 0.000983369744012821 0 0.143571982625872 146
A20: 185 | B20: 0.184 | C20: 6.415953e-06 | D20: 2.025 | E20: 0.00092223633 | F20: 3/3/2020 2:13:55 PM 0.00103803935834328 0 0.18373296642676 177
A21: 215 | B21: 0.248 | C21: 7.397023e-06 | D21: 2.026 | E21: 0.0010626977 | F21: 3/3/2020 2:14:25 PM 0.00119676694030995 0 0.24773075664416 207
A22: 245 | B22: 0.313 | C22: 8.163411e-06 | D22: 2.027 | E22: 0.0011721855 | F22: 3/3/2020 2:14:55 PM 0.00132076119422472 0 0.31302040303126 237
A23: 275 | B23: 0.388 | C23: 8.986182e-06 | D23: 2.028 | E23: 0.00128965 | F23: 3/3/2020 2:15:25 PM 0.00145387759236863 0 0.388185317162424 267
A24: 305 | B24: 0.478 | C24: 9.942275e-06 | D24: 2.029 | E24: 0.0014261149 | F24: 3/3/2020 2:15:55 PM 0.00160856427850597 0 0.477743590716273 297
A25: 336 | B25: 0.577 | C25: 1.0879313e-05 | D25: 2.03 | E25: 0.0015597048 | F25: 3/3/2020 2:16:26 PM 0.0017601680308694 0 0.577335114125162 328
A26: 366 | B26: 0.684 | C26: 1.1807994e-05 | D26: 2.031 | E26: 0.001691957 | F26: 3/3/2020 2:16:56 PM 0.00191041958965777 0 0.683930213097483 358
... A3206: 97425 | B3206: 3.71 | C3206: 0.00021819659 | D3206: 2.189 | E3206: 0.028863365 | F3206: 3/4/2020 5:14:35 PM 0.0353021051557291 0.0329032584508188 3.70672104135156 105
