Workbook

Sheet Sheet1
B3: NO. | C3: Sample ID | D3: Dry Weight (gm) | E3: Grain Volume (cc) | F3: Grain Density (gm/cc) | G3: Pore Volume (cc) | H3: Porosity (%) | I3: Length (In) | J3: Diam. (In) | K3: Caliper BulkVol (cc) | L3: Dated | M3: Comments
B4: 1 | C4: 0.05%Graphene~2.5in#4 | D4: 52.87 | E4: 21.6763 | F4: 2.439 | G4: 7.878 | H4: 26.656 | I4: 2.3335 | J4: 0.992 | K4: 29.554 | L4: 43892.537 | M4: 1 3 8.0128 ccP1=195.955 P2=120.596 P1P2=1.62489
B5: 2 | C5: 0.05%Graphene~2.5in#3 | D5: 54.4 | E5: 22.0193 | F5: 2.471 | G5: 8.065 | H5: 26.808 | I5: 2.3705 | J5: 0.993 | K5: 30.084 | L5: 43892.546 | M5: 1 3 8.0128 ccP1=196.016 P2=121.583 P1P2=1.61220
B6: 3 | C6: 0.05%Graphene~2.5in#2 | D6: 55.43 | E6: 22.9544 | F6: 2.415 | G6: 8.272 | H6: 26.491 | I6: 2.4605 | J6: 0.993 | K6: 31.226 | L6: 43892.55 | M6: 3 6.4184 ccP1=195.968 P2=119.741 P1P2=1.63659
B7: 4 | C7: 0.05%Graphene~2.5in#2 | D7: 55.43 | E7: 22.8807 | F7: 2.423 | G7: 8.345 | H7: 26.725 | I7: 2.4605 | J7: 0.993 | K7: 31.226 | L7: 43892.655 | M7: 3 6.4184 ccP1=195.947 P2=119.530 P1P2=1.63932
B8: 5 | C8: 0.05%Graphene~2.5in#2 | D8: 55.43 | E8: 22.8043 | F8: 2.431 | G8: 8.422 | H8: 26.971 | I8: 2.4605 | J8: 0.993 | K8: 31.226 | L8: 43892.659 | M8: 3 6.4184 ccP1=195.957 P2=119.331 P1P2=1.64214
B9: 6 | C9: 0.05%Graphene~2.5in#3 | D9: 54.4 | E9: 21.9594 | F9: 2.477 | G9: 8.125 | H9: 27.008 | I9: 2.3705 | J9: 0.993 | K9: 30.084 | L9: 43892.665 | M9: 1 3 8.0128 ccP1=195.944 P2=121.371 P1P2=1.61442
B10: 7 | C10: 0.05%Graphene~2.5in#3 | D10: 54.4 | E10: 21.8751 | F10: 2.487 | G10: 8.209 | H10: 27.287 | I10: 2.3705 | J10: 0.993 | K10: 30.084 | L10: 43892.67 | M10: 1 3 8.0128 ccP1=195.892 P2=121.105 P1P2=1.61754
B11: 8 | C11: 0.05%Graphene~2.5in#4 | D11: 52.87 | E11: 21.6391 | F11: 2.443 | G11: 7.915 | H11: 26.781 | I11: 2.3335 | J11: 0.992 | K11: 29.554 | L11: 43892.678 | M11: 1 3 8.0128 ccP1=195.936 P2=120.482 P1P2=1.62627
B12: 9 | C12: 0.05%Graphene~2.5in#4 | D12: 52.87 | E12: 21.6994 | F12: 2.436 | G12: 7.855 | H12: 26.578 | I12: 2.3335 | J12: 0.992 | K12: 29.554 | L12: 43892.696 | M12: 1 3 8.0128 ccP1=195.907 P2=120.630 P1P2=1.62404
B13: 10 | C13: 0.05%Graphene~2.5in#1 | D13: 56.65 | E13: 23.373 | F13: 2.424 | G13: 8.179 | H13: 25.922 | I13: 2.49375 | J13: 0.9915 | K13: 31.552 | L13: 43893.631 | M13: 3 6.4184 ccP1=195.626 P2=120.714 P1P2=1.62057
B14: 11 | C14: 0.05%Graphene~2.5in#1 | D14: 56.65 | E14: 23.274 | F14: 2.434 | G14: 8.278 | H14: 26.236 | I14: 2.49375 | J14: 0.9915 | K14: 31.552 | L14: 43893.633 | M14: 3 6.4184 ccP1=195.734 P2=120.509 P1P2=1.62423
B15: 12 | C15: 0.05%Graphene~2.5in#1 | D15: 56.65 | E15: 23.4505 | F15: 2.416 | G15: 8.102 | H15: 25.678 | I15: 2.49375 | J15: 0.9915 | K15: 31.552 | L15: 43893.642 | M15: 3 6.4184 ccP1=195.729 P2=120.991 P1P2=1.61771
C17: Averages
C18: #1 | E18: =AVERAGE(E13:E15) -> 23.365833 | F18: =AVERAGE(F13:F15) -> 2.4246667 | G18: =AVERAGE(G13:G15) -> 8.1863333 | H18: =AVERAGE(H13:H15) -> 25.945333
C19: #2 | E19: =AVERAGE(E6:E8) -> 22.8798 | F19: =AVERAGE(F6:F8) -> 2.423 | G19: =AVERAGE(G6:G8) -> 8.3463333 | H19: =AVERAGE(H6:H8) -> 26.729
C20: #3 | E20: =AVERAGE(E5,E9:E10) -> 21.951267 | F20: =AVERAGE(F5,F9:F10) -> 2.4783333 | G20: =AVERAGE(G5,G9:G10) -> 8.133 | H20: =AVERAGE(H5,H9:H10) -> 27.034333
C21: #4 | E21: =AVERAGE(E11:E12,E4) -> 21.6716 | F21: =AVERAGE(F11:F12,F4) -> 2.4393333 | G21: =AVERAGE(G11:G12,G4) -> 7.8826667 | H21: =AVERAGE(H11:H12,H4) -> 26.671667
C22: Overall | D22: =AVERAGE(D4:D15) -> 54.8375 | E22: =AVERAGE(E4:E15) -> 22.467125 | F22: =AVERAGE(F4:F15) -> 2.4413333 | G22: =AVERAGE(G4:G15) -> 8.1370833 | H22: =AVERAGE(H4:H15) -> 26.595083 | I22: =AVERAGE(I4:I15) -> 2.4145625 | J22: =AVERAGE(J4:J15) -> 0.992375 | K22: =AVERAGE(K4:K15) -> 30.604
B24: Sample | C24: Test | D24: Dry Weight (gm) | E24: Grain Volume (cc) | F24: Grain Density (gm/cc) | G24: Pore Volume (cc) | H24: Porosity (%) | I24: Length (In) | J24: Diam. (In) | K24: Caliper BulkVol (cc) | L24: Dated | M24: Comments | P24: 53.85 | Q24: 0.9835
B25: 1 | P25: 54.15 | Q25: 0.9885
C26: Test 1 | D26: 56.65 | E26: 23.373 | F26: 2.424 | G26: 8.179 | H26: 25.922 | I26: 2.49375 | J26: 0.9915 | K26: 31.552 | L26: 43893.631 | M26: 3 6.4184 ccP1=195.626 P2=120.714 P1P2=1.62057 | P26: 53.3 | Q26: 0.9885
C27: Test 2 | D27: 56.65 | E27: 23.274 | F27: 2.434 | G27: 8.278 | H27: 26.236 | I27: 2.49375 | J27: 0.9915 | K27: 31.552 | L27: 43893.633 | M27: 3 6.4184 ccP1=195.734 P2=120.509 P1P2=1.62423 | P27: 53.95 | Q27: 0.989
C28: Test 3 | D28: 56.65 | E28: 23.4505 | F28: 2.416 | G28: 8.102 | H28: 25.678 | I28: 2.49375 | J28: 0.9915 | K28: 31.552 | L28: 43893.642 | M28: 3 6.4184 ccP1=195.729 P2=120.991 P1P2=1.61771 | P28: 53.5 | Q28: 0.989
C29: Average | D29: =AVERAGE(D26:D28) -> 56.65 | E29: =AVERAGE(E26:E28) -> 23.365833 | F29: =AVERAGE(F26:F28) -> 2.4246667 | G29: =AVERAGE(G26:G28) -> 8.1863333 | H29: =AVERAGE(H26:H28) -> 25.945333 | I29: =AVERAGE(I26:I28) -> 2.49375 | J29: =AVERAGE(J26:J28) -> 0.9915 | K29: =AVERAGE(K26:K28) -> 31.552 | P29: 53.85 | Q29: 0.988
B30: 2 | P30: =AVERAGE(P24:P29) -> 53.766667 | Q30: =AVERAGE(Q24:Q29) -> 0.98775
C31: Test 1 | D31: 55.43 | E31: 22.9544 | F31: 2.415 | G31: 8.272 | H31: 26.491 | I31: 2.4605 | J31: 0.993 | K31: 31.226 | L31: 43892.55 | M31: 3 6.4184 ccP1=195.968 P2=119.741 P1P2=1.63659
C32: Test 2 | D32: 55.43 | E32: 22.8807 | F32: 2.423 | G32: 8.345 | H32: 26.725 | I32: 2.4605 | J32: 0.993 | K32: 31.226 | L32: 43892.655 | M32: 3 6.4184 ccP1=195.947 P2=119.530 P1P2=1.63932
C33: Test 3 | D33: 55.43 | E33: 22.8043 | F33: 2.431 | G33: 8.422 | H33: 26.971 | I33: 2.4605 | J33: 0.993 | K33: 31.226 | L33: 43892.659 | M33: 3 6.4184 ccP1=195.957 P2=119.331 P1P2=1.64214
C34: Average | D34: =AVERAGE(D31:D33) -> 55.43 | E34: =AVERAGE(E31:E33) -> 22.8798 | F34: =AVERAGE(F31:F33) -> 2.423 | G34: =AVERAGE(G31:G33) -> 8.3463333 | H34: =AVERAGE(H31:H33) -> 26.729 | I34: =AVERAGE(I31:I33) -> 2.4605 | J34: =AVERAGE(J31:J33) -> 0.993 | K34: =AVERAGE(K31:K33) -> 31.226
B35: 3
C36: Test 1 | D36: 54.4 | E36: 22.0193 | F36: 2.471 | G36: 8.065 | H36: 26.808 | I36: 2.3705 | J36: 0.993 | K36: 30.084 | L36: 43892.546 | M36: 1 3 8.0128 ccP1=196.016 P2=121.583 P1P2=1.61220
C37: Test 2 | D37: 54.4 | E37: 21.9594 | F37: 2.477 | G37: 8.125 | H37: 27.008 | I37: 2.3705 | J37: 0.993 | K37: 30.084 | L37: 43892.665 | M37: 1 3 8.0128 ccP1=195.944 P2=121.371 P1P2=1.61442
C38: Test 3 | D38: 54.4 | E38: 21.8751 | F38: 2.487 | G38: 8.209 | H38: 27.287 | I38: 2.3705 | J38: 0.993 | K38: 30.084 | L38: 43892.67 | M38: 1 3 8.0128 ccP1=195.892 P2=121.105 P1P2=1.61754
C39: Average | D39: =AVERAGE(D36:D38) -> 54.4 | E39: =AVERAGE(E36:E38) -> 21.951267 | F39: =AVERAGE(F36:F38) -> 2.4783333 | G39: =AVERAGE(G36:G38) -> 8.133 | H39: =AVERAGE(H36:H38) -> 27.034333 | I39: =AVERAGE(I36:I38) -> 2.3705 | J39: =AVERAGE(J36:J38) -> 0.993 | K39: =AVERAGE(K36:K38) -> 30.084
B40: 4
C41: Test 1 | D41: 52.87 | E41: 21.6763 | F41: 2.439 | G41: 7.878 | H41: 26.656 | I41: 2.3335 | J41: 0.992 | K41: 29.554 | L41: 43892.537 | M41: 1 3 8.0128 ccP1=195.955 P2=120.596 P1P2=1.62489
C42: Test 2 | D42: 52.87 | E42: 21.6391 | F42: 2.443 | G42: 7.915 | H42: 26.781 | I42: 2.3335 | J42: 0.992 | K42: 29.554 | L42: 43892.678 | M42: 1 3 8.0128 ccP1=195.936 P2=120.482 P1P2=1.62627
C43: Test 3 | D43: 52.87 | E43: 21.6994 | F43: 2.436 | G43: 7.855 | H43: 26.578 | I43: 2.3335 | J43: 0.992 | K43: 29.554 | L43: 43892.696 | M43: 1 3 8.0128 ccP1=195.907 P2=120.630 P1P2=1.62404
C44: Average | D44: =AVERAGE(D41:D43) -> 52.87 | E44: =AVERAGE(E41:E43) -> 21.6716 | F44: =AVERAGE(F41:F43) -> 2.4393333 | G44: =AVERAGE(G41:G43) -> 7.8826667 | H44: =AVERAGE(H41:H43) -> 26.671667 | I44: =AVERAGE(I41:I43) -> 2.3335 | J44: =AVERAGE(J41:J43) -> 0.992 | K44: =AVERAGE(K41:K43) -> 29.554
B45: Total Average | D45: =AVERAGE(D26:D28,D31:D33,D36:D38,D41:D43) -> 54.8375 | E45: =AVERAGE(E26:E28,E31:E33,E36:E38,E41:E43) -> 22.467125 | F45: =AVERAGE(F26:F28,F31:F33,F36:F38,F41:F43) -> 2.4413333 | G45: =AVERAGE(G26:G28,G31:G33,G36:G38,G41:G43) -> 8.1370833 | H45: =AVERAGE(H26:H28,H31:H33,H36:H38,H41:H43) -> 26.595083 | I45: =AVERAGE(I26:I28,I31:I33,I36:I38,I41:I43) -> 2.4145625 | J45: =AVERAGE(J26:J28,J31:J33,J36:J38,J41:J43) -> 0.992375 | K45: =AVERAGE(K26:K28,K31:K33,K36:K38,K41:K43) -> 30.604
B46: Neat Class H | H46: 29.9
D48: Neat | E48: 0.05% GNPs | F48: 0.1% GNPs
C49: Average Porosity | D49: ='Neat Cement'!H37 -> 27.8588 | E49: ='0.05%GNPs Cement'!G27 -> 26.595083 | F49: ='0.1%GNPs Cement'!H34 -> 27.650556
I69: Sample | J69: Neat | K69: 0.05% GNPs | L69: 0.1% GNPs
I70: 1 | J70: ='Neat Cement'!E39 -> 28.932667 | K70: ='0.05%GNPs Cement'!F30 -> 25.945333 | L70: ='0.1%GNPs Cement'!F37 -> 27.398333
I71: 2 | J71: ='Neat Cement'!E40 -> 27.112 | K71: ='0.05%GNPs Cement'!F31 -> 26.729 | L71: ='0.1%GNPs Cement'!F38 -> 26.879667
I72: 3 | J72: ='Neat Cement'!E41 -> 27.561667 | K72: ='0.05%GNPs Cement'!F32 -> 27.034333 | L72: ='0.1%GNPs Cement'!F39 -> 28.673667
I73: Average | J73: =D49 -> 27.8588 | K73: =E49 -> 26.595083 | L73: =F49 -> 27.650556

Sheet Neat Cement
A11: 1
A15: 1
A16: 0
A17: 0
A18: 0
A19: 0
A21: NO. | B21: Sample ID | D21: Dry Weight (gm) | E21: Grain Volume (cc) | F21: Grain Density (gm/cc) | G21: Pore Volume (cc) | H21: Porosity (%) | J21: Length (In) | K21: Diam. (In) | L21: Caliper BulkVol (cc)
A22: 1 | B22: Neat~2in#1 | C22: 0 | D22: 42.025 | E22: 17.2128 | F22: 2.441 | G22: 7.011 | H22: 28.942 | I22: 0 | J22: 1.9088 | K22: 0.993 | L22: 24.224 | M22: 0 | N22: 43902.5 | AA22: 1 2 3 12.8161 ccP1=194.386 P2=120.561 P1P2=1.61234
A23: 2 | B23: Neat~2in#1 | C23: 0 | D23: 42.025 | E23: 17.2224 | F23: 2.44 | G23: 7.002 | H23: 28.905 | I23: 0 | J23: 1.9088 | K23: 0.993 | L23: 24.224 | M23: 0 | N23: 43902.503 | AA23: 1 2 3 12.8161 ccP1=194.367 P2=120.576 P1P2=1.61199
A24: 3 | B24: Neat~2in#1 | C24: 0 | D24: 42.025 | E24: 17.2112 | F24: 2.442 | G24: 7.013 | H24: 28.951 | I24: 0 | J24: 1.9088 | K24: 0.993 | L24: 24.224 | M24: 0 | N24: 43902.505 | AA24: 1 2 3 12.8161 ccP1=194.369 P2=120.546 P1P2=1.61241
A25: 4 | B25: Neat~2.5in#2 | C25: 0 | D25: 57.58 | E25: 23.6196 | F25: 2.438 | G25: 8.881 | H25: 27.325 | I25: 0 | J25: 2.5623 | K25: 0.99275 | L25: 32.501 | M25: 0 | N25: 43902.543 | AA25: 2 4.8033 ccP1=194.397 P2=116.288 P1P2=1.67169
A26: 5 | B26: Neat~2.5in#2 | C26: 0 | D26: 57.58 | E26: 23.8356 | F26: 2.416 | G26: 8.665 | H26: 26.661 | I26: 0 | J26: 2.5623 | K26: 0.99275 | L26: 32.501 | M26: 0 | N26: 43902.546 | AA26: 2 4.8033 ccP1=194.380 P2=116.835 P1P2=1.66371
A27: 6 | B27: Neat~2.5in#2 | C27: 0 | D27: 57.58 | E27: 23.612 | F27: 2.439 | G27: 8.889 | H27: 27.35 | I27: 0 | J27: 2.5623 | K27: 0.99275 | L27: 32.501 | M27: 0 | N27: 43902.549 | AA27: 2 4.8033 ccP1=194.392 P2=116.266 P1P2=1.67197
A28: 7 | B28: Neat~2.5in#3 | C28: 0 | D28: 55.62 | E28: 22.7375 | F28: 2.446 | G28: 8.674 | H28: 27.615 | I28: 0 | J28: 2.4523 | K28: 0.9976 | L28: 31.411 | M28: 0 | N28: 43902.687 | AA28: 3 6.4184 ccP1=194.552 P2=118.295 P1P2=1.64463
A29: 8 | B29: Neat~2.5in#3 | C29: 0 | D29: 55.62 | E29: 22.6681 | F29: 2.454 | G29: 8.743 | H29: 27.834 | I29: 0 | J29: 2.4523 | K29: 0.9976 | L29: 31.411 | M29: 0 | N29: 43902.689 | AA29: 3 6.4184 ccP1=194.611 P2=118.147 P1P2=1.64719
A30: 9 | B30: Neat~2.5in#3 | C30: 0 | D30: 55.62 | E30: 22.856 | F30: 2.433 | G30: 8.555 | H30: 27.236 | I30: 0 | J30: 2.4523 | K30: 0.9976 | L30: 31.411 | M30: 0 | N30: 43902.702 | AA30: 3 6.4184 ccP1=194.588 P2=118.633 P1P2=1.64026
A31: 10 | B31: Neat~2.5in#4 | C31: 0 | D31: 55.11 | E31: 22.5825 | F31: 2.44 | G31: 9.09 | H31: 28.7 | I31: 0 | J31: 2.4707 | K31: 0.998 | L31: 31.672 | M31: 0 | N31: 43985.579 | AA31: 3 6.4184 ccP1=199.897 P2=121.161 P1P2=1.64984
A32: 11 | B32: Neat~2.5in#4 | C32: 0 | D32: 55.11 | E32: 22.6546 | F32: 2.433 | G32: 9.017 | H32: 28.47 | I32: 0 | J32: 2.4707 | K32: 0.998 | L32: 31.672 | M32: 0 | N32: 43985.582 | AA32: 3 6.4184 ccP1=198.648 P2=120.599 P1P2=1.64719
A33: 12 | B33: Neat~2.5in#4 | C33: 0 | D33: 55.11 | E33: 22.7248 | F33: 2.425 | G33: 8.947 | H33: 28.249 | I33: 0 | J33: 2.4707 | K33: 0.998 | L33: 31.672 | M33: 0 | N33: 43985.584 | AA33: 3 6.4184 ccP1=199.954 P2=121.582 P1P2=1.64460
... A36: 15 | B36: Neat~2.5in#5 | C36: 0 | D36: 57.96 | E36: 23.7777 | F36: 2.438 | G36: 8.954 | H36: 27.355 | I36: 0 | J36: 2.5818 | K36: 0.9925 | L36: 32.732 | M36: 0 | N36: 43985.593 | AA36: 2 4.8033 ccP1=199.824 P2=119.994 P1P2=1.66529
G37: Average | H37: =AVERAGE(H22:H36) -> 27.8588
D38: Sample | E38: Average
D39: 1 | E39: =AVERAGE(H22:H24) -> 28.932667
D40: 2 | E40: =AVERAGE(H25:H27) -> 27.112
D41: 3 | E41: =AVERAGE(H28:H30) -> 27.561667

Sheet 0.05%GNPs Cement
A1: Core Lab Instruments (www.coreinst.com)
A3: You can import this report into Excel. Run Excel and open the file C:\WINPORE\DATA\CODY\JOB_2020_MAR02_103500.HTM
A5: Core Data Report
A7: File Name | C7: C:\Winpore\Data\Cody\Job_2020_Mar02_103500.cor | I7: Well
A8: Location | I8: Latitude/Longitude
A9: Field | I9: Formation
A10: Company | I10: Country
A11: Lab | I11: Client
A12: Operator | I12: Current Time | K12: 43893.643
A14: NO. | B14: Sample ID | C14: Dry Weight (gm) | D14: Grain Volume (cc) | E14: Grain Density (gm/cc) | F14: Pore Volume (cc) | G14: Porosity (%) | H14: Length (In) | I14: Diam. (In) | J14: Caliper BulkVol (cc) | K14: Dated | L14: Comments
A15: 1 | B15: 0.05%Graphene~2.5in#4 | C15: 52.87 | D15: 21.6763 | E15: 2.439 | F15: 7.878 | G15: 26.656 | H15: 2.3335 | I15: 0.992 | J15: 29.554 | K15: 43892.537 | L15: 1 3 8.0128 ccP1=195.955 P2=120.596 P1P2=1.62489
A16: 2 | B16: 0.05%Graphene~2.5in#3 | C16: 54.4 | D16: 22.0193 | E16: 2.471 | F16: 8.065 | G16: 26.808 | H16: 2.3705 | I16: 0.993 | J16: 30.084 | K16: 43892.546 | L16: 1 3 8.0128 ccP1=196.016 P2=121.583 P1P2=1.61220
A17: 3 | B17: 0.05%Graphene~2.5in#2 | C17: 55.43 | D17: 22.9544 | E17: 2.415 | F17: 8.272 | G17: 26.491 | H17: 2.4605 | I17: 0.993 | J17: 31.226 | K17: 43892.55 | L17: 3 6.4184 ccP1=195.968 P2=119.741 P1P2=1.63659
A18: 4 | B18: 0.05%Graphene~2.5in#2 | C18: 55.43 | D18: 22.8807 | E18: 2.423 | F18: 8.345 | G18: 26.725 | H18: 2.4605 | I18: 0.993 | J18: 31.226 | K18: 43892.655 | L18: 3 6.4184 ccP1=195.947 P2=119.530 P1P2=1.63932
A19: 5 | B19: 0.05%Graphene~2.5in#2 | C19: 55.43 | D19: 22.8043 | E19: 2.431 | F19: 8.422 | G19: 26.971 | H19: 2.4605 | I19: 0.993 | J19: 31.226 | K19: 43892.659 | L19: 3 6.4184 ccP1=195.957 P2=119.331 P1P2=1.64214
A20: 6 | B20: 0.05%Graphene~2.5in#3 | C20: 54.4 | D20: 21.9594 | E20: 2.477 | F20: 8.125 | G20: 27.008 | H20: 2.3705 | I20: 0.993 | J20: 30.084 | K20: 43892.665 | L20: 1 3 8.0128 ccP1=195.944 P2=121.371 P1P2=1.61442
A21: 7 | B21: 0.05%Graphene~2.5in#3 | C21: 54.4 | D21: 21.8751 | E21: 2.487 | F21: 8.209 | G21: 27.287 | H21: 2.3705 | I21: 0.993 | J21: 30.084 | K21: 43892.67 | L21: 1 3 8.0128 ccP1=195.892 P2=121.105 P1P2=1.61754
A22: 8 | B22: 0.05%Graphene~2.5in#4 | C22: 52.87 | D22: 21.6391 | E22: 2.443 | F22: 7.915 | G22: 26.781 | H22: 2.3335 | I22: 0.992 | J22: 29.554 | K22: 43892.678 | L22: 1 3 8.0128 ccP1=195.936 P2=120.482 P1P2=1.62627
A23: 9 | B23: 0.05%Graphene~2.5in#4 | C23: 52.87 | D23: 21.6994 | E23: 2.436 | F23: 7.855 | G23: 26.578 | H23: 2.3335 | I23: 0.992 | J23: 29.554 | K23: 43892.696 | L23: 1 3 8.0128 ccP1=195.907 P2=120.630 P1P2=1.62404
A24: 10 | B24: 0.05%Graphene~2.5in#1 | C24: 56.65 | D24: 23.373 | E24: 2.424 | F24: 8.179 | G24: 25.922 | H24: 2.49375 | I24: 0.9915 | J24: 31.552 | K24: 43893.631 | L24: 3 6.4184 ccP1=195.626 P2=120.714 P1P2=1.62057
A25: 11 | B25: 0.05%Graphene~2.5in#1 | C25: 56.65 | D25: 23.274 | E25: 2.434 | F25: 8.278 | G25: 26.236 | H25: 2.49375 | I25: 0.9915 | J25: 31.552 | K25: 43893.633 | L25: 3 6.4184 ccP1=195.734 P2=120.509 P1P2=1.62423
A26: 12 | B26: 0.05%Graphene~2.5in#1 | C26: 56.65 | D26: 23.4505 | E26: 2.416 | F26: 8.102 | G26: 25.678 | H26: 2.49375 | I26: 0.9915 | J26: 31.552 | K26: 43893.642 | L26: 3 6.4184 ccP1=195.729 P2=120.991 P1P2=1.61771
F27: Average | G27: =AVERAGE(G15:G26) -> 26.595083
E29: Sample | F29: Average
E30: 1 | F30: =AVERAGE(G24:G26) -> 25.945333
E31: 2 | F31: =AVERAGE(G17:G19) -> 26.729
E32: 3 | F32: =AVERAGE(G20:G21,G16) -> 27.034333

Sheet 0.1%GNPs Cement
A11: 1
A15: 1
A16: 0
A17: 0
A18: 0
A19: 0
A21: NO. | B21: Sample ID | D21: Dry Weight (gm) | E21: Grain Volume (cc) | F21: Grain Density (gm/cc) | G21: Pore Volume (cc) | H21: Porosity (%) | J21: Length (In) | K21: Diam. (In) | L21: Caliper BulkVol (cc)
A22: 1 | B22: 0.1%Graphene~2.5in#3 | C22: 0 | D22: 62.3 | E22: 25.501 | F22: 2.443 | G22: 9.815 | H22: 27.792 | I22: 0 | J22: 2.7839 | K22: 0.9928 | L22: 35.316 | M22: 0 | N22: 43985.732 | AA22: 1 1.5944 ccP1=199.835 P2=116.134 P1P2=1.72073
A23: 2 | B23: 0.1%Graphene~2.5in#3 | C23: 0 | D23: 62.3 | E23: 25.7011 | F23: 2.424 | G23: 9.615 | H23: 27.226 | I23: 0 | J23: 2.7839 | K23: 0.9928 | L23: 35.316 | M23: 0 | N23: 43985.735 | AA23: 1 1.5944 ccP1=199.848 P2=116.641 P1P2=1.71337
A24: 3 | B24: 0.1%Graphene~2.5in#3 | C24: 0 | D24: 62.3 | E24: 25.7183 | F24: 2.422 | G24: 9.598 | H24: 27.177 | I24: 0 | J24: 2.7839 | K24: 0.9928 | L24: 35.316 | M24: 0 | N24: 43985.736 | AA24: 1 1.5944 ccP1=199.831 P2=116.674 P1P2=1.71273
A25: 4 | B25: 0.1%Graphene~2.5in#4 | C25: 0 | D25: 61.8 | E25: 25.2803 | F25: 2.445 | G25: 9.429 | H25: 27.166 | I25: 0 | J25: 2.7488 | K25: 0.9905 | L25: 34.709 | M25: 0 | N25: 43985.744 | AA25: 1 1.5944 ccP1=199.813 P2=115.575 P1P2=1.72885
A26: 5 | B26: 0.1%Graphene~2.5in#4 | C26: 0 | D26: 61.8 | E26: 25.2474 | F26: 2.448 | G26: 9.462 | H26: 27.261 | I26: 0 | J26: 2.7488 | K26: 0.9905 | L26: 34.709 | M26: 0 | N26: 43985.749 | AA26: 1 1.5944 ccP1=199.820 P2=115.498 P1P2=1.73006
A27: 6 | B27: 0.1%Graphene~2.5in#4 | C27: 0 | D27: 61.8 | E27: 25.6106 | F27: 2.413 | G27: 9.098 | H27: 26.212 | I27: 0 | J27: 2.7488 | K27: 0.9905 | L27: 34.709 | M27: 0 | N27: 43985.752 | AA27: 1 1.5944 ccP1=199.785 P2=116.378 P1P2=1.71670
A28: 7 | B28: 0.1%Graphene~2.5in#6 | C28: 0 | D28: 51.29 | E28: 20.8846 | F28: 2.456 | G28: 8.395 | H28: 28.671 | I28: 0 | J28: 2.2873 | K28: 0.9973 | L28: 29.28 | M28: 0 | N28: 44008.494
A29: 8 | B29: 0.1%Graphene~2.5in#6 | C29: 0 | D29: 51.29 | E29: 20.8867 | F29: 2.456 | G29: 8.393 | H29: 28.665 | I29: 0 | J29: 2.2873 | K29: 0.9973 | L29: 29.28 | M29: 0 | N29: 44008.496
A30: 9 | B30: 0.1%Graphene~2.5in#6 | C30: 0 | D30: 51.29 | E30: 20.8812 | F30: 2.456 | G30: 8.399 | H30: 28.685 | I30: 0 | J30: 2.2873 | K30: 0.9973 | L30: 29.28 | M30: 0 | N30: 44008.5
A31: 10 | B31: 0.1%Graphene~2.5in#5 | C31: 0 | D31: 48.96 | E31: 19.9171 | F31: 2.458 | G31: 8.364 | H31: 29.575 | I31: 0 | J31: 2.2097 | K31: 0.9972 | L31: 28.281 | M31: 0 | N31: 44008.461
A32: 11 | B32: 0.1%Graphene~2.5in#5 | C32: 0 | D32: 48.96 | E32: 19.9252 | F32: 2.457 | G32: 8.356 | H32: 29.546 | I32: 0 | J32: 2.2097 | K32: 0.9972 | L32: 28.281 | M32: 0 | N32: 44008.463
A33: 12 | B33: 0.1%Graphene~2.5in#5 | C33: 0 | D33: 48.96 | E33: 19.9233 | F33: 2.457 | G33: 8.358 | H33: 29.553 | I33: 0 | J33: 2.2097 | K33: 0.9972 | L33: 28.281 | M33: 0 | N33: 44008.469
G34: Average | H34: =AVERAGE(H22:H30) -> 27.650556
E36: Sample | F36: Average
E37: 3 | F37: =AVERAGE(H22:H24) -> 27.398333
E38: 4 | F38: =AVERAGE(H25:H27) -> 26.879667
E39: 6 | F39: =AVERAGE(H28:H30) -> 28.673667
