Workbook

Sheet Graphs
H17: Sample | I17: 0.1% Sample1 | J17: 0.1% Sample2 | K17: 0.05% Sample1 | L17: Neat Sample1 | M17: Neat Sample2
H18: Max Stress | I18: ='0.1% sample 1'!I2 -> 5062.3089 | J18: ='0.1% sample 2'!I2 -> 4798.3112 | K18: ='0.05% Graphene UCS_1'!I2 -> 1792.5644 | L18: =MAX('Neat sample 1 (6-11-20)_1'!F3:F4238) -> 5500.6273 | M18: =MAX('Neat sample 2 (6-11-20)_1'!F3:F2125) -> 3053.5222

Sheet 0.1% sample 1
A1: Time | B1: Displacement | C1: Force | D1: Compressive strain (Displacement) | E1: Compressive stress | F1: Compressive stress
A2: (s) | B2: (mm) | C2: (kN) | D2: (%) | E2: (MPa) | F2: (psi) | H2: Max Stress= | I2: =MAX(F3:F7652) -> 5062.3089
A3: 0 | B3: -0.001 | C3: 0.0015 | D3: -0.001 | E3: 0.003 | F3: =E3*145.0377 -> 0.4351131
A4: 0.02 | B4: -0.0011 | C4: 0.0013 | D4: -0.0011 | E4: 0.0028 | F4: =E4*145.0377 -> 0.40610556
A5: 0.04 | B5: -0.0003 | C5: 0.0012 | D5: -0.0003 | E5: 0.0025 | F5: =E5*145.0377 -> 0.36259425
A6: 0.06 | B6: -0.0008 | C6: -0.0005 | D6: -0.0008 | E6: -0.001 | F6: =E6*145.0377 -> -0.1450377
A7: 0.08 | B7: -0.0014 | C7: 0.0008 | D7: -0.0014 | E7: 0.0016 | F7: =E7*145.0377 -> 0.23206032
A8: 0.1 | B8: -0.0005 | C8: -0.0003 | D8: -0.0005 | E8: -0.0006 | F8: =E8*145.0377 -> -0.08702262
A9: 0.12 | B9: 0.0005 | C9: -0.0005 | D9: 0.0005 | E9: -0.0011 | F9: =E9*145.0377 -> -0.15954147
A10: 0.14 | B10: 0.0007 | C10: 0.0005 | D10: 0.0007 | E10: 0.0011 | F10: =E10*145.0377 -> 0.15954147
A11: 0.16 | B11: 0.0014 | C11: -0.0001 | D11: 0.0014 | E11: -0.0001 | F11: =E11*145.0377 -> -0.01450377
A12: 0.18 | B12: 0.0021 | C12: 0.0005 | D12: 0.0021 | E12: 0.0009 | F12: =E12*145.0377 -> 0.13053393
A13: 0.2 | B13: 0.0027 | C13: -0.0008 | D13: 0.0027 | E13: -0.0016 | F13: =E13*145.0377 -> -0.23206032
A14: 0.22 | B14: 0.0034 | C14: -0.0003 | D14: 0.0034 | E14: -0.0007 | F14: =E14*145.0377 -> -0.10152639
... A7652: 152.935 | B7652: 5.1226 | C7652: 9.9065 | D7652: 5.1226 | E7652: 20.7788 | F7652: =E7652*145.0377 -> 3013.7094

Sheet 0.1% sample 2
A1: Time | B1: Displacement | C1: Force | D1: Compressive strain (Displacement) | E1: Compressive stress | F1: Compressive stress
A2: (s) | B2: (mm) | C2: (kN) | D2: (%) | E2: (MPa) | F2: (psi) | H2: Max Stress= | I2: =MAX(F3:F2467) -> 4798.3112
A3: 0 | B3: -0.0002 | C3: -0.0006 | D3: -0.0002 | E3: -0.0012 | F3: =E3*145.0377 -> -0.17404524
A4: 0.02 | B4: -0.0004 | C4: -0.0003 | D4: -0.0004 | E4: -0.0007 | F4: =E4*145.0377 -> -0.10152639
A5: 0.04 | B5: -0.0003 | C5: 0 | D5: -0.0003 | E5: -0.0001 | F5: =E5*145.0377 -> -0.01450377
A6: 0.06 | B6: 0.0004 | C6: -0.0002 | D6: 0.0004 | E6: -0.0005 | F6: =E6*145.0377 -> -0.07251885
A7: 0.08 | B7: -0.0002 | C7: -0.0006 | D7: -0.0002 | E7: -0.0012 | F7: =E7*145.0377 -> -0.17404524
A8: 0.1 | B8: -0.0009 | C8: -0.0026 | D8: -0.0009 | E8: -0.0054 | F8: =E8*145.0377 -> -0.78320358
A9: 0.12 | B9: -0.0002 | C9: -0.0028 | D9: -0.0002 | E9: -0.006 | F9: =E9*145.0377 -> -0.8702262
A10: 0.14 | B10: 0.0005 | C10: -0.0016 | D10: 0.0005 | E10: -0.0034 | F10: =E10*145.0377 -> -0.49312818
A11: 0.16 | B11: 0.0013 | C11: -0.0009 | D11: 0.0013 | E11: -0.002 | F11: =E11*145.0377 -> -0.2900754
A12: 0.18 | B12: 0.0024 | C12: -0.0021 | D12: 0.0024 | E12: -0.0044 | F12: =E12*145.0377 -> -0.63816588
A13: 0.2 | B13: 0.0028 | C13: -0.0019 | D13: 0.0028 | E13: -0.004 | F13: =E13*145.0377 -> -0.5801508
A14: 0.22 | B14: 0.0031 | C14: -0.0011 | D14: 0.0031 | E14: -0.0023 | F14: =E14*145.0377 -> -0.33358671
... A2467: 49.24 | B2467: 1.6582 | C2467: 8.0076 | D2467: 1.6582 | E2467: 16.7958 | F2467: =E2467*145.0377 -> 2436.0242

Sheet 0.05% Graphene UCS_1
A1: Time | B1: Displacement | C1: Force | D1: Compressive strain (Displacement) | E1: Compressive stress | F1: Compressive stress
A2: (s) | B2: (mm) | C2: (kN) | D2: (%) | E2: (MPa) | F2: (psi) | H2: Max Stress= | I2: =MAX(F3:F432) -> 1792.5644
A3: 0 | B3: -0.0015 | C3: 1.8126 | D3: -0.0015 | E3: 3.802 | F3: =E3*145.0377 -> 551.43334
A4: 0.02 | B4: -0.0008 | C4: 1.8177 | D4: -0.0008 | E4: 3.8126 | F4: =E4*145.0377 -> 552.97074
A5: 0.04 | B5: -0.0004 | C5: 1.8196 | D5: -0.0004 | E5: 3.8165 | F5: =E5*145.0377 -> 553.53638
A6: 0.06 | B6: -0.0006 | C6: 1.822 | D6: -0.0006 | E6: 3.8217 | F6: =E6*145.0377 -> 554.29058
A7: 0.08 | B7: 0.0001 | C7: 1.8336 | D7: 0.0001 | E7: 3.846 | F7: =E7*145.0377 -> 557.81499
A8: 0.1 | B8: 0.0003 | C8: 1.8426 | D8: 0.0003 | E8: 3.8649 | F8: =E8*145.0377 -> 560.55621
A9: 0.12 | B9: 0.0002 | C9: 1.857 | D9: 0.0002 | E9: 3.8949 | F9: =E9*145.0377 -> 564.90734
A10: 0.14 | B10: 0.0006 | C10: 1.8821 | D10: 0.0006 | E10: 3.9478 | F10: =E10*145.0377 -> 572.57983
A11: 0.16 | B11: 0.0016 | C11: 1.9093 | D11: 0.0016 | E11: 4.0047 | F11: =E11*145.0377 -> 580.83248
A12: 0.18 | B12: 0.0021 | C12: 1.931 | D12: 0.0021 | E12: 4.0502 | F12: =E12*145.0377 -> 587.43169
A13: 0.2 | B13: 0.0028 | C13: 1.9569 | D13: 0.0028 | E13: 4.1046 | F13: =E13*145.0377 -> 595.32174
A14: 0.22 | B14: 0.0044 | C14: 1.982 | D14: 0.0044 | E14: 4.1572 | F14: =E14*145.0377 -> 602.95073
... A432: 8.56 | B432: 0.285 | C432: 2.8102 | D432: 0.285 | E432: 5.8944 | F432: =E432*145.0377 -> 854.91022

Sheet Neat sample 1 (6-11-20)_1
A1: Time | B1: Displacement | C1: Force | D1: Compressive strain (Displacement) | E1: Compressive stress | F1: Compressive stress
A2: (s) | B2: (mm) | C2: (kN) | D2: (%) | E2: (MPa) | F2: (psi)
A3: 0 | B3: -0.0001 | C3: 0.0031 | D3: -0.0001 | E3: 0.0054 | F3: =E3*145.0377 -> 0.78320358
A4: 0.02 | B4: -0.0003 | C4: 0.002 | D4: -0.0003 | E4: 0.0036 | F4: =E4*145.0377 -> 0.52213572
A5: 0.04 | B5: -0.0002 | C5: 0.0034 | D5: -0.0002 | E5: 0.0059 | F5: =E5*145.0377 -> 0.85572243
A6: 0.06 | B6: -0.0001 | C6: 0.0036 | D6: -0.0001 | E6: 0.0063 | F6: =E6*145.0377 -> 0.91373751
A7: 0.08 | B7: 0.0002 | C7: 0.0028 | D7: 0.0002 | E7: 0.0049 | F7: =E7*145.0377 -> 0.71068473
A8: 0.1 | B8: 0.0003 | C8: 0.0016 | D8: 0.0003 | E8: 0.0029 | F8: =E8*145.0377 -> 0.42060933
A9: 0.12 | B9: 0.0006 | C9: 0.0031 | D9: 0.0006 | E9: 0.0055 | F9: =E9*145.0377 -> 0.79770735
A10: 0.14 | B10: 0.0006 | C10: 0.0033 | D10: 0.0006 | E10: 0.0058 | F10: =E10*145.0377 -> 0.84121866
A11: 0.16 | B11: 0.0008 | C11: 0.0029 | D11: 0.0008 | E11: 0.0051 | F11: =E11*145.0377 -> 0.73969227
A12: 0.18 | B12: 0.0019 | C12: 0.001 | D12: 0.0019 | E12: 0.0017 | F12: =E12*145.0377 -> 0.24656409
A13: 0.2 | B13: 0.003 | C13: 0.002 | D13: 0.003 | E13: 0.0035 | F13: =E13*145.0377 -> 0.50763195
A14: 0.22 | B14: 0.0035 | C14: 0.0028 | D14: 0.0035 | E14: 0.0049 | F14: =E14*145.0377 -> 0.71068473
... A4238: 84.685 | B4238: 2.8224 | C4238: 20.2587 | D4238: 2.8224 | E4238: 35.583 | F4238: =E4238*145.0377 -> 5160.8765

Sheet Neat sample 2 (6-11-20)_1
A1: Time | B1: Displacement | C1: Force | D1: Compressive strain (Displacement) | E1: Compressive stress | F1: Compressive stress
A2: (s) | B2: (mm) | C2: (kN) | D2: (%) | E2: (MPa) | F2: (psi)
A3: 0 | B3: 0.0002 | C3: 0.0018 | D3: 0.0002 | E3: 0.0032 | F3: =E3*145.0377 -> 0.46412064
A4: 0.02 | B4: 0.0003 | C4: 0.0016 | D4: 0.0003 | E4: 0.0028 | F4: =E4*145.0377 -> 0.40610556
A5: 0.04 | B5: 0.0004 | C5: 0.0038 | D5: 0.0004 | E5: 0.0066 | F5: =E5*145.0377 -> 0.95724882
A6: 0.06 | B6: -0.0002 | C6: 0.0031 | D6: -0.0002 | E6: 0.0054 | F6: =E6*145.0377 -> 0.78320358
A7: 0.08 | B7: -0.0001 | C7: 0.0005 | D7: -0.0001 | E7: 0.0009 | F7: =E7*145.0377 -> 0.13053393
A8: 0.1 | B8: 0.0006 | C8: -0.0001 | D8: 0.0006 | E8: -0.0001 | F8: =E8*145.0377 -> -0.01450377
A9: 0.12 | B9: 0.0012 | C9: -0.0009 | D9: 0.0012 | E9: -0.0016 | F9: =E9*145.0377 -> -0.23206032
A10: 0.14 | B10: 0.0015 | C10: 0.0002 | D10: 0.0015 | E10: 0.0003 | F10: =E10*145.0377 -> 0.04351131
A11: 0.16 | B11: 0.0018 | C11: 0.0027 | D11: 0.0018 | E11: 0.0047 | F11: =E11*145.0377 -> 0.68167719
A12: 0.18 | B12: 0.0023 | C12: 0.0028 | D12: 0.0023 | E12: 0.005 | F12: =E12*145.0377 -> 0.7251885
A13: 0.2 | B13: 0.0028 | C13: 0.0024 | D13: 0.0028 | E13: 0.0042 | F13: =E13*145.0377 -> 0.60915834
A14: 0.22 | B14: 0.0038 | C14: 0.0024 | D14: 0.0038 | E14: 0.0042 | F14: =E14*145.0377 -> 0.60915834
... A2125: 42.415 | B2125: 1.4133 | C2125: 8.9487 | D2125: 1.4133 | E2125: 15.7178 | F2125: =E2125*145.0377 -> 2279.6736
